BEGIN:VCALENDAR
VERSION:2.0
PRODID:-//wp-events-plugin.com//7.2.3.1//EN
BEGIN:VEVENT
UID:84@otevrenyprostor.cz
DTSTART:20230724T080000Z
DTEND:20230730T110000Z
DTSTAMP:20230515T074949Z
URL:https://otevrenyprostor.cz/udalosti/letni-kemp-bothmerovy-gymnastiky-v
 -policce-2/
SUMMARY:Letní kemp Bothmerovy gymnastiky v Poličce
DESCRIPTION:Letní soustředění mezinárodní organizace Bothmer Movement
  International. Přihlaste se do týdenního otevřeného kurz pro začát
 ečníky a vyzkoušejte si cvičení i další doplňkové pohybové aktiv
 ity. Letos opět v ČR (v Poličce) v termínu 24.- 30. 7. 2023.
ATTACH;FMTTYPE=image/jpeg:https://otevrenyprostor.cz/wp-content/uploads/20
 23/05/OP_Bot_gym_Policka_2023_A4_print.jpg
CATEGORIES:Bothmerova gymnastika
END:VEVENT
END:VCALENDAR