BEGIN:VCALENDAR
VERSION:2.0
PRODID:-//wp-events-plugin.com//7.2.3.1//EN
BEGIN:VEVENT
UID:120@otevrenyprostor.cz
DTSTART;VALUE=DATE:20250312
DTEND;VALUE=DATE:20250317
DTSTAMP:20250213T202343Z
URL:https://otevrenyprostor.cz/udalosti/masky-zverokruhu-s-mikem-chasem/
SUMMARY:Masky zvěrokruhu s Mikem Chasem
DESCRIPTION:Masky zvěrokruhu s Mikem Chasem. Prostřednictvím dramatický
 ch cvičení\, použitím masek\, řečových a psychodramatických akčn
 ích metod nahlédneme každé z 12 znamení zvěrokruhu jako jedinečné 
 archetypy osobnosti.
ATTACH;FMTTYPE=image/jpeg:https://otevrenyprostor.cz/wp-content/uploads/20
 25/01/Masky-zverokruhu.jpg
CATEGORIES:Masky
LOCATION:Otevřený prostor\, Trpoměchy 29\, Trpoměchy u Slaného\, 274 0
 1\, Česká republika
GEO:50.23046220000001;14.086943799999972
X-APPLE-STRUCTURED-LOCATION;VALUE=URI;X-ADDRESS=Trpoměchy 29\, Trpoměchy 
 u Slaného\, 274 01\, Česká republika;X-APPLE-RADIUS=100;X-TITLE=Otevře
 ný prostor:geo:50.23046220000001,14.086943799999972
END:VEVENT
END:VCALENDAR