BEGIN:VCALENDAR
VERSION:2.0
PRODID:-//wp-events-plugin.com//7.2.3.1//EN
BEGIN:VEVENT
UID:46@otevrenyprostor.cz
DTSTART;VALUE=DATE:20201030
DTEND;VALUE=DATE:20201102
DTSTAMP:20200224T182805Z
URL:https://otevrenyprostor.cz/udalosti/sermem-k-sebepoznani-vikendovy-wor
 kshop-sermu-s-adrianem-constantinescu/
SUMMARY:Šermem k sebepoznání - víkendový workshop šermu s Adrianem Co
 nstantinescu
DESCRIPTION:Víkednový workshop šermu s Adrianem Constantinescu "Šermem 
 k sebepoznání" je úvodem do umění šermu. Budeme společně prozkoum
 ávat přesnost\, temperament i eleganci této klasické disciplíny a uč
 it se komunikovat s partnerem. 
ATTACH;FMTTYPE=image/jpeg:https://otevrenyprostor.cz/wp-content/uploads/20
 18/10/Šermem-k-sebepoznání.jpg
CATEGORIES:Bothmerova gymnastika,Šerm
LOCATION:Otevřený prostor\, Trpoměchy 29\, Trpoměchy u Slaného\, 274 0
 1\, Česká republika
GEO:50.23046220000001;14.086943799999972
X-APPLE-STRUCTURED-LOCATION;VALUE=URI;X-ADDRESS=Trpoměchy 29\, Trpoměchy 
 u Slaného\, 274 01\, Česká republika;X-APPLE-RADIUS=100;X-TITLE=Otevře
 ný prostor:geo:50.23046220000001,14.086943799999972
END:VEVENT
END:VCALENDAR