BEGIN:VCALENDAR
VERSION:2.0
PRODID:-//wp-events-plugin.com//7.2.3.1//EN
BEGIN:VEVENT
UID:60@otevrenyprostor.cz
DTSTART:20200306T180000Z
DTEND:20200308T120000Z
DTSTAMP:20200108T212059Z
URL:https://otevrenyprostor.cz/udalosti/tre-workshop-napeti-stres-a-trauma
 -uvolnujici-cviceni/
SUMMARY:TRE Workshop - Napětí\, stres a trauma uvolňující cvičení
DESCRIPTION:Víkendový workshop věnovaný cvičením uvolňujícím napě
 tí\, stres\, úzkost a trauma. Během tohoto víkendu si osvojíme techni
 ku uvolňování napětí a traumatu TRE i jiné techniky\, které můžem
 e sami používat pro zvládání napětí a stresu\, abychom mohli žít 
 ve zdraví a spokojenosti.
ATTACH;FMTTYPE=image/jpeg:https://otevrenyprostor.cz/wp-content/uploads/20
 20/01/Stress_CZ.jpg
LOCATION:Otevřený prostor\, Trpoměchy 29\, Trpoměchy u Slaného\, 274 0
 1\, Česká republika
GEO:50.25237494773212;14.061591560391207
X-APPLE-STRUCTURED-LOCATION;VALUE=URI;X-ADDRESS=Trpoměchy 29\, Trpoměchy 
 u Slaného\, 274 01\, Česká republika;X-APPLE-RADIUS=100;X-TITLE=Otevře
 ný prostor:geo:50.25237494773212,14.061591560391207
END:VEVENT
END:VCALENDAR