BEGIN:VCALENDAR
VERSION:2.0
PRODID:-//wp-events-plugin.com//7.2.3.1//EN
BEGIN:VEVENT
UID:72@otevrenyprostor.cz
DTSTART:20220521T090000Z
DTEND:20220522T130000Z
DTSTAMP:20220425T205951Z
URL:https://otevrenyprostor.cz/udalosti/uvod-do-bothmerovy-gymnastiky-vike
 dnovy-workshop-s-martinem-bakerem-2/
SUMMARY:Bothmer Movement s Martinem Bakerem
DESCRIPTION:Úvodní seminář Bothmerovy gymnastiky pro všechny\, poro kt
 eré je tělo\, pohyb a sport prostředkem k hlubšímu objevování a pro
 žívání vlastní lidské přirozenosti.
ATTACH;FMTTYPE=image/jpeg:https://otevrenyprostor.cz/wp-content/uploads/20
 19/04/3-Kreise.jpg
CATEGORIES:Bothmerova gymnastika
LOCATION:Otevřený prostor\, Trpoměchy 29\, Trpoměchy u Slaného\, 274 0
 1\, Česká republika
GEO:50.23046220000001;14.086943799999972
X-APPLE-STRUCTURED-LOCATION;VALUE=URI;X-ADDRESS=Trpoměchy 29\, Trpoměchy 
 u Slaného\, 274 01\, Česká republika;X-APPLE-RADIUS=100;X-TITLE=Otevře
 ný prostor:geo:50.23046220000001,14.086943799999972
END:VEVENT
END:VCALENDAR