BEGIN:VCALENDAR
VERSION:2.0
PRODID:-//wp-events-plugin.com//7.2.3.1//EN
BEGIN:VEVENT
UID:106@otevrenyprostor.cz
DTSTART:20240811T230000Z
DTEND:20240817T230000Z
DTSTAMP:20240124T122655Z
URL:https://otevrenyprostor.cz/udalosti/zpivajici-telo/
SUMMARY:Zpívající tělo
DESCRIPTION:Zpívající tělo / Singing Body\nTýdenní rezidenční works
 hop se Sanjou Krsmanović Tasić zaměřený na rozvoj pohybových\, hlaso
 vých i hereckých dovedností a jejich využití v procesu společné tvo
 rby  pohybového a tanečního divadla.\n\n\nNázev tohoto workshopu je i
 nspirován živým autorským představením/prezentací\, které Sanja vy
 tvořila a v letech 2001 až 2010 s ním procestovala celý svět od Mongo
 lska až po Spojené státy americké. Toto původní představení/prezen
 tace neslo název „Zpívající tělo\, tančící hlas“. Inspirací p
 ro tvorbu tohoto představení i pro jeho samotný název byl citát Mere
 dith Monk\, věhlasné umělkyně na poli hudby i divadla\, která svou vl
 astní tvorbu charakterizovala slovy: “Pohybuji se  mezi trhlinami\, ta
 m kde hlas začíná tančit a tělo začíná zpívat\, tam kde se divadl
 o stává filmem.”\n...\nZákladem této specifické tvorby představen
 í současného divadla je společná tvorba všech zúčastněných akté
 rů\, která vychází z původního materiálu vytvořeného jednotlivým
 i herci a následného skládání (montáže) jednotlivých příspěvků
  do jednoho společného a smysluplného celku. Tato metoda montáže je n
 ěco\, co se hojně používá i ve filmové tvorbě - tudíž ona spojito
 st vyjádřená v citátu Meredith Monk. V rámci workshopu „Zpívajíc
 í tělo“ budeme prozkoumávat pohybové i hlasové možnosti a omezení
  všech účastníků\, nahlížet na ně a dál je prozkoumávat jako „
 zrcadla duše“.\n\nBudeme se setkávat na posvátné půdě umělecké t
 vorby\, kde každý může svobodně vyjádřit svůj tvůrčí potenciál
  a rovnocenně přispívat do procesu společné tvorby. Letošní worksho
 p bude obsahovat také vybraná cvičení z Čchi-kungu\, budeme pracovat 
 s předmětem a věnovat se tvůrčímu psaní.\n\nV průběhu týdne zaž
 ijete chvíle fyzického vypětí i uvolnění\, koncentrace i kontemplace
 \, a především radost z pohybu a společné tvorby. Na závěr týdenn
 ího workshopu dostanete možnost prezentovat své dovednosti v rámci spo
 lečně vytvořeného divadelního představení. Téma představení (pre
 zentace) se zjeví v průběhu společné celotýdenní tvorby.\nO lektorc
 e:\nSanja Krsmanović Tasić je spoluzakladatelkou a uměleckou ředitelko
 u divadla Hleb Teatar (hlebteatar) z  Bělehradu\, choreografkou\, hereč
 kou\, tanečnicí\, performerkou a učitelkou dramatické výchovy. V suč
 asnosti je také prezidentkou mezinárodní asociace dramatického a divad
 elního vzdělávání IDEA. Během své divadelní a taneční kariéry s
 polupracovala s mnoha mistry moderního divadla a tance: Torgeirem Wethale
 m (Odin Teatret)\, Yoshim Oidou (Peter Brook)\, Genadijem Bogdanovem (Meye
 rholdova Biomechanika)\, Renou Mireckou (Grotowski) a dalšími.\n\nPedago
 gické práci v oblasti tance\, pohybového a divadelního umění se věn
 uje více než třicet let. Je autorkou a producentkou mnoha vzdělávací
 ch a uměleckých projektů pro děti\, mládež i vysokoškolské student
 y. Vede dílny pro profesionální tanečníky a herce nejen v Srbsku ale 
 i v zahraničí.\n\nSanja věří\, že působivé pohybové divadlo můž
 e být založeno na prožitku tělesného pohybu kohokoliv: „Pokud nehle
 dáme jen estetický pohyb ale opravdový pohyb\, objevíme i autentický 
 projev jedinečnosti každého z nás. V každém z nás je ukrytý nezmě
 rný potenciál tvořivosti – pohybového\, hlasového i uměleckého pr
 ojevu\, který jen čeká na své vyjádření.\n...\nKomu je workshop ur
 čen?\nWorkshop je otevřen všem bez omezení – těm\, kdo mají jen mi
 nimální či žádné zkušenosti s pohybovým divadlem nebo hlasovou a p
 ohybovou výchovou\, i těm\, kdo se profesionálně věnují tanci\, chor
 eografii\, herectví či dramatické výchově a chtějí rozvíjet své d
 ovednosti.\nMísto konání:\nVzdělávací centrum Otevřeného prostoru 
 se nachází v obci Trpoměchy u Slaného\, 35 km severozápadně od Prahy
 . Centrum má vlastní ubytovací kapacitu a kuchyň zajišťující strav
 ování po celou dobu workshopu. Kromě prostorného sálu budeme pracovat
  i venku - na terase a travnaté hrací ploše v zahradě.\nTermín:\n12. 
 až 18. srpna 2024. Zahájení workshopu v pondělí večer v 18:00\, ukon
 čení v neděli kolem poledne obědem (odjezd po 14h).\nCena:\n7.800 Kč 
 \n\nCena zahrnuje kurzovné\, ubytování a stravování (3 x denně) + ob
 čerstvení a nápoje.\n\nPřihlásit se na workshop\nPraktické informace
 :\nS sebou pohodlné oblečení\, sálovou obuv nebo cvičky. Workshop bud
 e veden v anglickém jazyce s možností tlumočení do češtiny.\n\nDota
 zy a podrobné informace o workshopu: Pavel Bednář\, tel: +420602322947\
 , pavelbednar@gmail.com\n...\nOhlasy na předchozí workshop Sanji Krsmano
 vić Tasić (Ekologie duše) v Otevřeném prostoru:\n\nWorkshop byl jedin
 ečný v tom\, jak Sanja snoubí ohromnou divadelně-taneční zkušenost
  s filosofickým pozadím a jak dokáže učit – je vynikající pedago
 g\, obdivuji\, jak měla vše promyšlené a dokázala vše úžasně prop
 ojit.\n\n\nSanja je zkušená herečka a režisérka a hlavně skvělý č
 lověk. Je vidět\, že má vše vyzkoušeno na sobě - líbilo se mi\, ja
 k nám tuhle osobní zkušenost předávala a sdílela s námi svou cestu 
 k herectví a režii. Vedení workshopu bylo přirozené a příjemné\, o
 d počátku jsem se cítila v bezpečném prostředí pro experimentován
 í. Jsem moc ráda\, že jsem mohla pod jejím vedením pracovat.\n\n\nJse
 m nadšená z celkové atmosféry workshopu\, z toho\, co všechno jsem 
 se naučila a objevila i z toho\, s jak skvělými lidmi jsem mohla str
 ávit několik báječných dní.
ATTACH;FMTTYPE=image/jpeg:https://otevrenyprostor.cz/wp-content/uploads/20
 24/01/IMG_6615-1-e1706029828281.jpg
CATEGORIES:Pohybové divadlo
LOCATION:Otevřený prostor\, Trpoměchy 29\, Trpoměchy u Slaného\, 274 0
 1\, Česká republika
GEO:50.25237494773212;14.061591560391207
X-APPLE-STRUCTURED-LOCATION;VALUE=URI;X-ADDRESS=Trpoměchy 29\, Trpoměchy 
 u Slaného\, 274 01\, Česká republika;X-APPLE-RADIUS=100;X-TITLE=Otevře
 ný prostor:geo:50.25237494773212,14.061591560391207
END:VEVENT
END:VCALENDAR